BEGIN:VCALENDAR
VERSION:2.0
METHOD:PUBLISH
BEGIN:VEVENT
DTSTART:20220218T150000Z
DTEND:20220221T170000Z
LOCATION:Tarrytown, NY 10591
TRANSP: OPAQUE
SEQUENCE:0
UID:
DTSTAMP:20260422T025424Z
SUMMARY:Jungle Habitat in Sleepy Hollow by Hudson Estate Sales
DESCRIPTION:Jungle Habitat in Sleepy Hollow by Hudson Estate Sales Hudson Estate Sales, LLC 
UID:1776848064
STREET-ADDRESS:See website
POSTAL-CODE:10591
LOCALITY:Tarrytown
REGION:ABBREV=NY
COUNTRY:ABBREV=US;ABBREV=USA:United States
URL;TYPE=Event Listing:https://estatesales.org/estate-sales/ny/sleepy-hollow/10591/jungle-habitat-in-sleepy-hollow-2005379
PRIORITY:1
CLASS:PUBLIC
SEQUENCE:0
STATUS:CONFIRMED
TRANSP:OPAQUE
END:VEVENT
END:VCALENDAR
