BEGIN:VCALENDAR
VERSION:2.0
METHOD:PUBLISH
BEGIN:VEVENT
DTSTART:20240217T160000Z
DTEND:20240218T190000Z
LOCATION:Spencer, WI 54479
TRANSP: OPAQUE
SEQUENCE:0
UID:
DTSTAMP:20260419T103058Z
SUMMARY:The Spencer Sale
DESCRIPTION:The Spencer Sale JANE'S Estate Sale & Services 
UID:1776616258
STREET-ADDRESS:See website
POSTAL-CODE:54479
LOCALITY:Spencer
REGION:ABBREV=WI
COUNTRY:ABBREV=US;ABBREV=USA:United States
URL;TYPE=Event Listing:https://estatesales.org/estate-sales/wi/spencer/54479/the-spencer-sale-2281063
PRIORITY:1
CLASS:PUBLIC
SEQUENCE:0
STATUS:CONFIRMED
TRANSP:OPAQUE
END:VEVENT
END:VCALENDAR
