BEGIN:VCALENDAR
VERSION:2.0
METHOD:PUBLISH
BEGIN:VEVENT
DTSTART:20240217T170000Z
DTEND:20240218T220000Z
LOCATION:Los Angeles, CA 91311
TRANSP: OPAQUE
SEQUENCE:0
UID:
DTSTAMP:20260420T021550Z
SUMMARY:Must See! Wonderful Packed home. Fun Collections and New. Deals! Comics, Glass, Books, Kitchen, Jewelry n'more! Lots More!
DESCRIPTION:Must See! Wonderful Packed home. Fun Collections and New. Deals! Comics, Glass, Books, Kitchen, Jewelry n'more! Lots More! Triumphant Estate Sales of Los Angeles 
UID:1776672950
STREET-ADDRESS:See website
POSTAL-CODE:91311
LOCALITY:Los Angeles
REGION:ABBREV=CA
COUNTRY:ABBREV=US;ABBREV=USA:United States
URL;TYPE=Event Listing:https://estatesales.org/estate-sales/ca/los-angeles/91311/must-see-wonderful-packed-home-2279421
PRIORITY:1
CLASS:PUBLIC
SEQUENCE:0
STATUS:CONFIRMED
TRANSP:OPAQUE
END:VEVENT
END:VCALENDAR
