BEGIN:VCALENDAR
VERSION:2.0
METHOD:PUBLISH
BEGIN:VEVENT
DTSTART:20230217T180000Z
DTEND:20230219T220000Z
LOCATION:Salinas, CA 93907
TRANSP: OPAQUE
SEQUENCE:0
UID:
DTSTAMP:20260421T115744Z
SUMMARY:Oak Hills Estate Sale 
DESCRIPTION:Oak Hills Estate Sale  A Move Made SImple 
UID:1776794264
STREET-ADDRESS:See website
POSTAL-CODE:93907
LOCALITY:Salinas
REGION:ABBREV=CA
COUNTRY:ABBREV=US;ABBREV=USA:United States
URL;TYPE=Event Listing:https://estatesales.org/estate-sales/ca/salinas-/93907/oak-hills-estate-sale-2148413
PRIORITY:1
CLASS:PUBLIC
SEQUENCE:0
STATUS:CONFIRMED
TRANSP:OPAQUE
END:VEVENT
END:VCALENDAR
