BEGIN:VCALENDAR
VERSION:2.0
METHOD:PUBLISH
BEGIN:VEVENT
DTSTART:20230217T140000Z
DTEND:20230219T190000Z
LOCATION:Eastchester, NY 10709
TRANSP: OPAQUE
SEQUENCE:0
UID:
DTSTAMP:20260422T024526Z
SUMMARY:Set Your Sights On Eastchester!
DESCRIPTION:Set Your Sights On Eastchester! Hudson Estate Sales, LLC 
UID:1776847526
STREET-ADDRESS:See website
POSTAL-CODE:10709
LOCALITY:Eastchester
REGION:ABBREV=NY
COUNTRY:ABBREV=US;ABBREV=USA:United States
URL;TYPE=Event Listing:https://estatesales.org/estate-sales/ny/eastchester/10709/set-your-sights-on-eastchester-2140995
PRIORITY:1
CLASS:PUBLIC
SEQUENCE:0
STATUS:CONFIRMED
TRANSP:OPAQUE
END:VEVENT
END:VCALENDAR
