BEGIN:VCALENDAR
VERSION:2.0
METHOD:PUBLISH
BEGIN:VEVENT
DTSTART:20230217T160000Z
DTEND:20230218T230000Z
LOCATION:Riverside, CA 92506
TRANSP: OPAQUE
SEQUENCE:0
UID:
DTSTAMP:20260419T223703Z
SUMMARY:Riverside Sale with Mid-Century Modern Furniture, Rattan Furniture, Garden Tools and Much More!
DESCRIPTION:Riverside Sale with Mid-Century Modern Furniture, Rattan Furniture, Garden Tools and Much More! Estate Sales by Dee 
UID:1776659823
STREET-ADDRESS:See website
POSTAL-CODE:92506
LOCALITY:Riverside
REGION:ABBREV=CA
COUNTRY:ABBREV=US;ABBREV=USA:United States
URL;TYPE=Event Listing:https://estatesales.org/estate-sales/ca/riverside/92506/riverside-sale-with-midcentury-modern-2148247
PRIORITY:1
CLASS:PUBLIC
SEQUENCE:0
STATUS:CONFIRMED
TRANSP:OPAQUE
END:VEVENT
END:VCALENDAR
