BEGIN:VCALENDAR
VERSION:2.0
METHOD:PUBLISH
BEGIN:VEVENT
DTSTART:20210217T170000Z
DTEND:20210220T230000Z
LOCATION:Gardnerville, NV 89460
TRANSP: OPAQUE
SEQUENCE:0
UID:
DTSTAMP:20260425T162415Z
SUMMARY:TLC Estate Services Presents
DESCRIPTION:TLC Estate Services Presents TLC Estate Services 
UID:1777155855
STREET-ADDRESS:See website
POSTAL-CODE:89460
LOCALITY:Gardnerville
REGION:ABBREV=NV
COUNTRY:ABBREV=US;ABBREV=USA:United States
URL;TYPE=Event Listing:https://estatesales.org/estate-sales/nv/gardnerville/89460/tlc-estate-services-presents-1870069
PRIORITY:1
CLASS:PUBLIC
SEQUENCE:0
STATUS:CONFIRMED
TRANSP:OPAQUE
END:VEVENT
END:VCALENDAR
