BEGIN:VCALENDAR
VERSION:2.0
METHOD:PUBLISH
BEGIN:VEVENT
DTSTART:20170217T190000Z
DTEND:20170220T010000Z
LOCATION:Sonoma, CA 95476
TRANSP: OPAQUE
SEQUENCE:0
UID:
DTSTAMP:20260421T124126Z
SUMMARY:Wine Country Treasures continues this weekend!  Tons of Antiques and hidden treasures unearthed...
DESCRIPTION:Wine Country Treasures continues this weekend!  Tons of Antiques and hidden treasures unearthed... The Mystic & The Monk 
UID:1776796886
STREET-ADDRESS:See website
POSTAL-CODE:95476
LOCALITY:Sonoma
REGION:ABBREV=CA
COUNTRY:ABBREV=US;ABBREV=USA:United States
URL;TYPE=Event Listing:https://estatesales.org/estate-sales/ca/sonoma/95476/wine-country-treasures-continues-this-1082187
PRIORITY:1
CLASS:PUBLIC
SEQUENCE:0
STATUS:CONFIRMED
TRANSP:OPAQUE
END:VEVENT
END:VCALENDAR
