BEGIN:VCALENDAR
VERSION:2.0
METHOD:PUBLISH
BEGIN:VEVENT
DTSTART:20240216T140000Z
DTEND:20240218T190000Z
LOCATION:Winter Park, FL 32792
TRANSP: OPAQUE
SEQUENCE:0
UID:
DTSTAMP:20260421T212901Z
SUMMARY:Winter Park estate sale - UPDATED GATE CODE
DESCRIPTION:Winter Park estate sale - UPDATED GATE CODE Posh Peacock Estate Sales 
UID:1776828541
STREET-ADDRESS:See website
POSTAL-CODE:32792
LOCALITY:Winter Park
REGION:ABBREV=FL
COUNTRY:ABBREV=US;ABBREV=USA:United States
URL;TYPE=Event Listing:https://estatesales.org/estate-sales/fl/winter-park/32792/winter-park-estate-sale-updated-2281683
PRIORITY:1
CLASS:PUBLIC
SEQUENCE:0
STATUS:CONFIRMED
TRANSP:OPAQUE
END:VEVENT
END:VCALENDAR
