BEGIN:VCALENDAR
VERSION:2.0
METHOD:PUBLISH
BEGIN:VEVENT
DTSTART:20240216T150000Z
DTEND:20240217T220000Z
LOCATION:Surprise, AZ 85388
TRANSP: OPAQUE
SEQUENCE:0
UID:
DTSTAMP:20260423T074748Z
SUMMARY:Surprise Estate Sale
DESCRIPTION:Surprise Estate Sale Clear Horizon Estate Services 
UID:1776952068
STREET-ADDRESS:See website
POSTAL-CODE:85388
LOCALITY:Surprise
REGION:ABBREV=AZ
COUNTRY:ABBREV=US;ABBREV=USA:United States
URL;TYPE=Event Listing:https://estatesales.org/estate-sales/az/surprise/85388/surprise-estate-sale-2282347
PRIORITY:1
CLASS:PUBLIC
SEQUENCE:0
STATUS:CONFIRMED
TRANSP:OPAQUE
END:VEVENT
END:VCALENDAR
