BEGIN:VCALENDAR
VERSION:2.0
METHOD:PUBLISH
BEGIN:VEVENT
DTSTART:20130216T190000Z
DTEND:20130219T000000Z
LOCATION:Stillwater, MN 55082
TRANSP: OPAQUE
SEQUENCE:0
UID:
DTSTAMP:20260419T201421Z
SUMMARY:Whiteford American Pickers Farm, Antiques, RARE Artwork, Glassware, Sheds-ONLINE AUCTION
DESCRIPTION:Whiteford American Pickers Farm, Antiques, RARE Artwork, Glassware, Sheds-ONLINE AUCTION Nopa Trucking LLC 
UID:1776651261
STREET-ADDRESS:See website
POSTAL-CODE:55082
LOCALITY:Stillwater
REGION:ABBREV=MN
COUNTRY:ABBREV=US;ABBREV=USA:United States
URL;TYPE=Event Listing:https://estatesales.org/estate-sales/mn/stillwater/55082/whiteford-american-pickers-farm-antiques-242650
PRIORITY:1
CLASS:PUBLIC
SEQUENCE:0
STATUS:CONFIRMED
TRANSP:OPAQUE
END:VEVENT
END:VCALENDAR
