BEGIN:VCALENDAR
VERSION:2.0
METHOD:PUBLISH
BEGIN:VEVENT
DTSTART:20260215T163000Z
DTEND:20260215T210000Z
LOCATION:Modesto, CA 95356
TRANSP: OPAQUE
SEQUENCE:0
UID:
DTSTAMP:20260421T163013Z
SUMMARY:50% OFF TODAY!!!! DEL RIO COUNTRY CLUB HOME ESTATE SALE!!!
DESCRIPTION:50% OFF TODAY!!!! DEL RIO COUNTRY CLUB HOME ESTATE SALE!!! CALIFORNIA ESTATE SALES GROUP 
UID:1776810613
STREET-ADDRESS:See website
POSTAL-CODE:95356
LOCALITY:Modesto
REGION:ABBREV=CA
COUNTRY:ABBREV=US;ABBREV=USA:United States
URL;TYPE=Event Listing:https://estatesales.org/estate-sales/ca/modesto/95356/50-off-today-del-rio-2422482
PRIORITY:1
CLASS:PUBLIC
SEQUENCE:0
STATUS:CONFIRMED
TRANSP:OPAQUE
END:VEVENT
END:VCALENDAR
