BEGIN:VCALENDAR
VERSION:2.0
METHOD:PUBLISH
BEGIN:VEVENT
DTSTART:20250215T150000Z
DTEND:20250217T190000Z
LOCATION:Alexandria, VA 22304
TRANSP: OPAQUE
SEQUENCE:0
UID:
DTSTAMP:20260421T163014Z
SUMMARY:Global Treasures Estate Sale
DESCRIPTION:Global Treasures Estate Sale Lasting Treasures Estate Sales 
UID:1776810614
STREET-ADDRESS:See website
POSTAL-CODE:22304
LOCALITY:Alexandria
REGION:ABBREV=VA
COUNTRY:ABBREV=US;ABBREV=USA:United States
URL;TYPE=Event Listing:https://estatesales.org/estate-sales/va/alexandria/22304/global-treasures-estate-sale-2361696
PRIORITY:1
CLASS:PUBLIC
SEQUENCE:0
STATUS:CONFIRMED
TRANSP:OPAQUE
END:VEVENT
END:VCALENDAR
