BEGIN:VCALENDAR
VERSION:2.0
METHOD:PUBLISH
BEGIN:VEVENT
DTSTART:20250215T140000Z
DTEND:20250216T170000Z
LOCATION:Kingsville, MD 21087
TRANSP: OPAQUE
SEQUENCE:0
UID:
DTSTAMP:20260425T203246Z
SUMMARY:Kingsville Downsizing
DESCRIPTION:Kingsville Downsizing Homeward Bound LLC 
UID:1777170766
STREET-ADDRESS:See website
POSTAL-CODE:21087
LOCALITY:Kingsville
REGION:ABBREV=MD
COUNTRY:ABBREV=US;ABBREV=USA:United States
URL;TYPE=Event Listing:https://estatesales.org/estate-sales/md/kingsville/21087/kingsville-downsizing-2360131
PRIORITY:1
CLASS:PUBLIC
SEQUENCE:0
STATUS:CONFIRMED
TRANSP:OPAQUE
END:VEVENT
END:VCALENDAR
