BEGIN:VCALENDAR
VERSION:2.0
METHOD:PUBLISH
BEGIN:VEVENT
DTSTART:20250215T170000Z
DTEND:20250216T220000Z
LOCATION:Burbank, CA 91506
TRANSP: OPAQUE
SEQUENCE:0
UID:
DTSTAMP:20260424T175441Z
SUMMARY:50% off Sunday!- Grasons Prestige Estate Sale- Vintage Haul in Burbank!
DESCRIPTION:50% off Sunday!- Grasons Prestige Estate Sale- Vintage Haul in Burbank! Grasons Co Prestige Pasadena & Territories  
UID:1777074881
STREET-ADDRESS:See website
POSTAL-CODE:91506
LOCALITY:Burbank
REGION:ABBREV=CA
COUNTRY:ABBREV=US;ABBREV=USA:United States
URL;TYPE=Event Listing:https://estatesales.org/estate-sales/ca/burbank/91506/grasons-prestige-estate-sale-vintage-2357802
PRIORITY:1
CLASS:PUBLIC
SEQUENCE:0
STATUS:CONFIRMED
TRANSP:OPAQUE
END:VEVENT
END:VCALENDAR
