BEGIN:VCALENDAR
VERSION:2.0
METHOD:PUBLISH
BEGIN:VEVENT
DTSTART:20240215T140000Z
DTEND:20240218T200000Z
LOCATION:Decatur, GA 30034
TRANSP: OPAQUE
SEQUENCE:0
UID:
DTSTAMP:20260421T112955Z
SUMMARY:MCM GALORE, 70's - 90's, TOOLS, Mid Century Modern Furniture, PICKER PARADISE
DESCRIPTION:MCM GALORE, 70's - 90's, TOOLS, Mid Century Modern Furniture, PICKER PARADISE Concierge Estate Services 
UID:1776792595
STREET-ADDRESS:See website
POSTAL-CODE:30034
LOCALITY:Decatur
REGION:ABBREV=GA
COUNTRY:ABBREV=US;ABBREV=USA:United States
URL;TYPE=Event Listing:https://estatesales.org/estate-sales/ga/decatur/30034/mcm-galore-70s-90s-tools-2282777
PRIORITY:1
CLASS:PUBLIC
SEQUENCE:0
STATUS:CONFIRMED
TRANSP:OPAQUE
END:VEVENT
END:VCALENDAR
