BEGIN:VCALENDAR
VERSION:2.0
METHOD:PUBLISH
BEGIN:VEVENT
DTSTART:20230215T170000Z
DTEND:20230218T230000Z
LOCATION:Derby, KS 67037
TRANSP: OPAQUE
SEQUENCE:0
UID:
DTSTAMP:20260419T082748Z
SUMMARY:OZ Fabulous February Sale in Derby
DESCRIPTION:OZ Fabulous February Sale in Derby OZ Estate Sales 
UID:1776608868
STREET-ADDRESS:See website
POSTAL-CODE:67037
LOCALITY:Derby
REGION:ABBREV=KS
COUNTRY:ABBREV=US;ABBREV=USA:United States
URL;TYPE=Event Listing:https://estatesales.org/estate-sales/ks/derby/67037/oz-fabulous-february-sale-in-2142665
PRIORITY:1
CLASS:PUBLIC
SEQUENCE:0
STATUS:CONFIRMED
TRANSP:OPAQUE
END:VEVENT
END:VCALENDAR
