BEGIN:VCALENDAR
VERSION:2.0
METHOD:PUBLISH
BEGIN:VEVENT
DTSTART:20200215T170000Z
DTEND:20200216T210000Z
LOCATION:Evergreen, CO 80439
TRANSP: OPAQUE
SEQUENCE:0
UID:
DTSTAMP:20260422T201546Z
SUMMARY:75% OFF Blow out TODAY! Evergreen World Wide sale with King's Thrones
DESCRIPTION:75% OFF Blow out TODAY! Evergreen World Wide sale with King's Thrones Heirloom Estate Sales, Llc 
UID:1776910546
STREET-ADDRESS:See website
POSTAL-CODE:80439
LOCALITY:Evergreen
REGION:ABBREV=CO
COUNTRY:ABBREV=US;ABBREV=USA:United States
URL;TYPE=Event Listing:https://estatesales.org/estate-sales/co/evergreen/80439/75-off-blow-out-today-1765945
PRIORITY:1
CLASS:PUBLIC
SEQUENCE:0
STATUS:CONFIRMED
TRANSP:OPAQUE
END:VEVENT
END:VCALENDAR
