BEGIN:VCALENDAR
VERSION:2.0
METHOD:PUBLISH
BEGIN:VEVENT
DTSTART:20200215T130000Z
DTEND:20200216T210000Z
LOCATION:Belleview, FL 34420
TRANSP: OPAQUE
SEQUENCE:0
UID:
DTSTAMP:20260420T061014Z
SUMMARY:GRAND OPENING THIS SATURDAY AND SUNDAY
DESCRIPTION:GRAND OPENING THIS SATURDAY AND SUNDAY Justice League Estate Sales 
UID:1776687014
STREET-ADDRESS:See website
POSTAL-CODE:34420
LOCALITY:Belleview
REGION:ABBREV=FL
COUNTRY:ABBREV=US;ABBREV=USA:United States
URL;TYPE=Event Listing:https://estatesales.org/estate-sales/fl/belleview/34420/grand-opening-this-saturday-and-1759589
PRIORITY:1
CLASS:PUBLIC
SEQUENCE:0
STATUS:CONFIRMED
TRANSP:OPAQUE
END:VEVENT
END:VCALENDAR
