BEGIN:VCALENDAR
VERSION:2.0
METHOD:PUBLISH
BEGIN:VEVENT
DTSTART:20250214T180000Z
DTEND:20250216T230000Z
LOCATION:Chula Vista, CA 91913
TRANSP: OPAQUE
SEQUENCE:0
UID:
DTSTAMP:20260423T110436Z
SUMMARY:Digger’s Goldmine
DESCRIPTION:Digger’s Goldmine Mooncrest Estate Sales 
UID:1776963876
STREET-ADDRESS:See website
POSTAL-CODE:91913
LOCALITY:Chula Vista
REGION:ABBREV=CA
COUNTRY:ABBREV=US;ABBREV=USA:United States
URL;TYPE=Event Listing:https://estatesales.org/estate-sales/ca/chula-vista/91913/diggers-goldmine-2360708
PRIORITY:1
CLASS:PUBLIC
SEQUENCE:0
STATUS:CONFIRMED
TRANSP:OPAQUE
END:VEVENT
END:VCALENDAR
