BEGIN:VCALENDAR
VERSION:2.0
METHOD:PUBLISH
BEGIN:VEVENT
DTSTART:20200214T150000Z
DTEND:20200215T200000Z
LOCATION:Oak Lawn, IL 60453
TRANSP: OPAQUE
SEQUENCE:0
UID:
DTSTAMP:20260425T162227Z
SUMMARY:Multi Estates Oak Lawn Estate Sale! Vintage Toys, Costume Jewelry, Fishing, Tools & More!
DESCRIPTION:Multi Estates Oak Lawn Estate Sale! Vintage Toys, Costume Jewelry, Fishing, Tools & More! The Ageless Treasure 
UID:1777155747
STREET-ADDRESS:See website
POSTAL-CODE:60453
LOCALITY:Oak Lawn
REGION:ABBREV=IL
COUNTRY:ABBREV=US;ABBREV=USA:United States
URL;TYPE=Event Listing:https://estatesales.org/estate-sales/il/oak-lawn/60453/multi-estates-oak-lawn-estate-1760271
PRIORITY:1
CLASS:PUBLIC
SEQUENCE:0
STATUS:CONFIRMED
TRANSP:OPAQUE
END:VEVENT
END:VCALENDAR
