BEGIN:VCALENDAR
VERSION:2.0
METHOD:PUBLISH
BEGIN:VEVENT
DTSTART:20260213T170000Z
DTEND:20260215T230000Z
LOCATION:Little Elm, TX 75068
TRANSP: OPAQUE
SEQUENCE:0
UID:
DTSTAMP:20260423T021616Z
SUMMARY:Moving sale in oak point
DESCRIPTION:Moving sale in oak point
UID:1776932176
STREET-ADDRESS:See website
POSTAL-CODE:75068
LOCALITY:Little Elm
REGION:ABBREV=TX
COUNTRY:ABBREV=US;ABBREV=USA:United States
URL;TYPE=Event Listing:https://estatesales.org/estate-sales/tx/oak-point/75068/moving-sale-in-oak-point-2423542
PRIORITY:1
CLASS:PUBLIC
SEQUENCE:0
STATUS:CONFIRMED
TRANSP:OPAQUE
END:VEVENT
END:VCALENDAR
