BEGIN:VCALENDAR
VERSION:2.0
METHOD:PUBLISH
BEGIN:VEVENT
DTSTART:20260213T170000Z
DTEND:20260215T220000Z
LOCATION:Carmichael, CA 95608
TRANSP: OPAQUE
SEQUENCE:0
UID:
DTSTAMP:20260423T150441Z
SUMMARY:50% OFF EVERYTHING! Captivating Carmichael Estate Liquidation
DESCRIPTION:50% OFF EVERYTHING! Captivating Carmichael Estate Liquidation Affinity Estate Pros 
UID:1776978281
STREET-ADDRESS:See website
POSTAL-CODE:95608
LOCALITY:Carmichael
REGION:ABBREV=CA
COUNTRY:ABBREV=US;ABBREV=USA:United States
URL;TYPE=Event Listing:https://estatesales.org/estate-sales/ca/carmichael/95608/captivating-carmichael-estate-liquidation-2421556
PRIORITY:1
CLASS:PUBLIC
SEQUENCE:0
STATUS:CONFIRMED
TRANSP:OPAQUE
END:VEVENT
END:VCALENDAR
