BEGIN:VCALENDAR
VERSION:2.0
METHOD:PUBLISH
BEGIN:VEVENT
DTSTART:20250213T150000Z
DTEND:20250215T200000Z
LOCATION:Tulsa, OK 74105
TRANSP: OPAQUE
SEQUENCE:0
UID:
DTSTAMP:20260421T080804Z
SUMMARY:Vintage Valentines Sale
DESCRIPTION:Vintage Valentines Sale Exquisite Estate Sales 
UID:1776780484
STREET-ADDRESS:See website
POSTAL-CODE:74105
LOCALITY:Tulsa
REGION:ABBREV=OK
COUNTRY:ABBREV=US;ABBREV=USA:United States
URL;TYPE=Event Listing:https://estatesales.org/estate-sales/ok/tulsa/74105/vintage-valentines-sale-2361082
PRIORITY:1
CLASS:PUBLIC
SEQUENCE:0
STATUS:CONFIRMED
TRANSP:OPAQUE
END:VEVENT
END:VCALENDAR
