BEGIN:VCALENDAR
VERSION:2.0
METHOD:PUBLISH
BEGIN:VEVENT
DTSTART:20160213T130000Z
DTEND:20160214T190000Z
LOCATION:Saint Louis, MO 63122
TRANSP: OPAQUE
SEQUENCE:0
UID:
DTSTAMP:20260419T105837Z
SUMMARY:Bogard's Estate Sale - Kirkwood, MO
DESCRIPTION:Bogard's Estate Sale - Kirkwood, MO Bogard's Estate Sales 
UID:1776617917
STREET-ADDRESS:See website
POSTAL-CODE:63122
LOCALITY:Saint Louis
REGION:ABBREV=MO
COUNTRY:ABBREV=US;ABBREV=USA:United States
URL;TYPE=Event Listing:https://estatesales.org/estate-sales/mo/saint-louis/63122/bogards-estate-sale-kirkwood-mo-757629
PRIORITY:1
CLASS:PUBLIC
SEQUENCE:0
STATUS:CONFIRMED
TRANSP:OPAQUE
END:VEVENT
END:VCALENDAR
