BEGIN:VCALENDAR
VERSION:2.0
METHOD:PUBLISH
BEGIN:VEVENT
DTSTART:20260212T170000Z
DTEND:20260214T220000Z
LOCATION:Byron, CA 94505
TRANSP: OPAQUE
SEQUENCE:0
UID:
DTSTAMP:20260420T031520Z
SUMMARY:ALLIANCE ESTATE SALE presents50% OFF a Pickers, Thrifters and Junker’s SALE!
DESCRIPTION:ALLIANCE ESTATE SALE presents50% OFF a Pickers, Thrifters and Junker’s SALE! Alliance Estate Sales 
UID:1776676520
STREET-ADDRESS:See website
POSTAL-CODE:94505
LOCALITY:Byron
REGION:ABBREV=CA
COUNTRY:ABBREV=US;ABBREV=USA:United States
URL;TYPE=Event Listing:https://estatesales.org/estate-sales/ca/byron/94505/alliance-estate-sale-presents-a-2424533
PRIORITY:1
CLASS:PUBLIC
SEQUENCE:0
STATUS:CONFIRMED
TRANSP:OPAQUE
END:VEVENT
END:VCALENDAR
