BEGIN:VCALENDAR
VERSION:2.0
METHOD:PUBLISH
BEGIN:VEVENT
DTSTART:20260212T190000Z
DTEND:20260214T200000Z
LOCATION:Tulsa, OK 74136
TRANSP: OPAQUE
SEQUENCE:0
UID:
DTSTAMP:20260422T185405Z
SUMMARY:CS Estate Sales Southern Hills area Tulsa estate sale.
DESCRIPTION:CS Estate Sales Southern Hills area Tulsa estate sale. CS Estate Sales 
UID:1776905645
STREET-ADDRESS:See website
POSTAL-CODE:74136
LOCALITY:Tulsa
REGION:ABBREV=OK
COUNTRY:ABBREV=US;ABBREV=USA:United States
URL;TYPE=Event Listing:https://estatesales.org/estate-sales/ok/tulsa/74136/cs-estate-sales-southern-hills-2423891
PRIORITY:1
CLASS:PUBLIC
SEQUENCE:0
STATUS:CONFIRMED
TRANSP:OPAQUE
END:VEVENT
END:VCALENDAR
