BEGIN:VCALENDAR
VERSION:2.0
METHOD:PUBLISH
BEGIN:VEVENT
DTSTART:20230211T170000Z
DTEND:20230211T220000Z
LOCATION:Bernalillo, NM 87004
TRANSP: OPAQUE
SEQUENCE:0
UID:
DTSTAMP:20260421T165847Z
SUMMARY:Pickers Warehouse Sale
DESCRIPTION:Pickers Warehouse Sale Everything But The Kitchen Sink, LLC 
UID:1776812327
STREET-ADDRESS:See website
POSTAL-CODE:87004
LOCALITY:Bernalillo
REGION:ABBREV=NM
COUNTRY:ABBREV=US;ABBREV=USA:United States
URL;TYPE=Event Listing:https://estatesales.org/estate-sales/nm/bernalillo/87004/pickers-warehouse-sale-2146865
PRIORITY:1
CLASS:PUBLIC
SEQUENCE:0
STATUS:CONFIRMED
TRANSP:OPAQUE
END:VEVENT
END:VCALENDAR
