BEGIN:VCALENDAR
VERSION:2.0
METHOD:PUBLISH
BEGIN:VEVENT
DTSTART:20170211T180000Z
DTEND:20170213T075900Z
LOCATION:Los Angeles, CA 90011
TRANSP: OPAQUE
SEQUENCE:0
UID:
DTSTAMP:20260420T222146Z
SUMMARY:The Living Estate of DR. PHIL, Daytime Talk Show Host (SOLD OUT)
DESCRIPTION:The Living Estate of DR. PHIL, Daytime Talk Show Host (SOLD OUT) Retro Robin Estate Sales, LLC 
UID:1776745306
STREET-ADDRESS:See website
POSTAL-CODE:90011
LOCALITY:Los Angeles
REGION:ABBREV=CA
COUNTRY:ABBREV=US;ABBREV=USA:United States
URL;TYPE=Event Listing:https://estatesales.org/estate-sales/ca/los-angeles/90011/the-living-estate-of-dr-1067537
PRIORITY:1
CLASS:PUBLIC
SEQUENCE:0
STATUS:CONFIRMED
TRANSP:OPAQUE
END:VEVENT
END:VCALENDAR
