BEGIN:VCALENDAR
VERSION:2.0
METHOD:PUBLISH
BEGIN:VEVENT
DTSTART:20240210T150000Z
DTEND:20240211T020000Z
LOCATION:Arnold, MO 63010
TRANSP: OPAQUE
SEQUENCE:0
UID:
DTSTAMP:20260419T163230Z
SUMMARY:Gun Estate Auction and more
DESCRIPTION:Gun Estate Auction and more Kube Auction Service 
UID:1776637950
STREET-ADDRESS:See website
POSTAL-CODE:63010
LOCALITY:Arnold
REGION:ABBREV=MO
COUNTRY:ABBREV=US;ABBREV=USA:United States
URL;TYPE=Event Listing:https://estatesales.org/estate-sales/mo/arnold/63010/gun-estate-auction-and-more-2276911
PRIORITY:1
CLASS:PUBLIC
SEQUENCE:0
STATUS:CONFIRMED
TRANSP:OPAQUE
END:VEVENT
END:VCALENDAR
