BEGIN:VCALENDAR
VERSION:2.0
METHOD:PUBLISH
BEGIN:VEVENT
DTSTART:20230210T170000Z
DTEND:20230212T000000Z
LOCATION:Saratoga, CA 95070
TRANSP: OPAQUE
SEQUENCE:0
UID:
DTSTAMP:20260423T083540Z
SUMMARY:Estate sale in-person 2/10 Saratoga CA
DESCRIPTION:Estate sale in-person 2/10 Saratoga CA Time Honored Vintage 
UID:1776954940
STREET-ADDRESS:See website
POSTAL-CODE:95070
LOCALITY:Saratoga
REGION:ABBREV=CA
COUNTRY:ABBREV=US;ABBREV=USA:United States
URL;TYPE=Event Listing:https://estatesales.org/estate-sales/ca/saratoga/95070/estate-sale-inperson-210-saratoga-2142125
PRIORITY:1
CLASS:PUBLIC
SEQUENCE:0
STATUS:CONFIRMED
TRANSP:OPAQUE
END:VEVENT
END:VCALENDAR
