BEGIN:VCALENDAR
VERSION:2.0
METHOD:PUBLISH
BEGIN:VEVENT
DTSTART:20180210T140000Z
DTEND:20180210T210000Z
LOCATION:Islip Terrace, NY 11752
TRANSP: OPAQUE
SEQUENCE:0
UID:
DTSTAMP:20260424T170840Z
SUMMARY:Pickers Antiques Estate Sale Loaded Islip Terrace
DESCRIPTION:Pickers Antiques Estate Sale Loaded Islip Terrace All American Auctions 
UID:1777072120
STREET-ADDRESS:See website
POSTAL-CODE:11752
LOCALITY:Islip Terrace
REGION:ABBREV=NY
COUNTRY:ABBREV=US;ABBREV=USA:United States
URL;TYPE=Event Listing:https://estatesales.org/estate-sales/ny/islip-terrace/11752/pickers-antiques-estate-sale-loaded-1476675
PRIORITY:1
CLASS:PUBLIC
SEQUENCE:0
STATUS:CONFIRMED
TRANSP:OPAQUE
END:VEVENT
END:VCALENDAR
