BEGIN:VCALENDAR
VERSION:2.0
METHOD:PUBLISH
BEGIN:VEVENT
DTSTART:20160210T233000Z
DTEND:20160211T050000Z
LOCATION:Scottsdale, AZ 85260
TRANSP: OPAQUE
SEQUENCE:0
UID:
DTSTAMP:20260423T101525Z
SUMMARY:Valentines Day Special Auction Jewelry Antiques Collectibles
DESCRIPTION:Valentines Day Special Auction Jewelry Antiques Collectibles Arizona Elite Auction House, LLC 
UID:1776960925
STREET-ADDRESS:See website
POSTAL-CODE:85260
LOCALITY:Scottsdale
REGION:ABBREV=AZ
COUNTRY:ABBREV=US;ABBREV=USA:United States
URL;TYPE=Event Listing:https://estatesales.org/estate-sales/az/scottsdale/85260/valentines-day-special-auction-jewelry-767613
PRIORITY:1
CLASS:PUBLIC
SEQUENCE:0
STATUS:CONFIRMED
TRANSP:OPAQUE
END:VEVENT
END:VCALENDAR
