BEGIN:VCALENDAR
VERSION:2.0
METHOD:PUBLISH
BEGIN:VEVENT
DTSTART:20190209T160000Z
DTEND:20190210T230000Z
LOCATION:Tuttle, OK 73089
TRANSP: OPAQUE
SEQUENCE:0
UID:
DTSTAMP:20260424T165456Z
SUMMARY:Moving sale Tuttle,Ok
DESCRIPTION:Moving sale Tuttle,Ok Belle Ordure Estate Sales 
UID:1777071296
STREET-ADDRESS:See website
POSTAL-CODE:73089
LOCALITY:Tuttle
REGION:ABBREV=OK
COUNTRY:ABBREV=US;ABBREV=USA:United States
URL;TYPE=Event Listing:https://estatesales.org/estate-sales/ok/tuttle-/73089/moving-sale-tuttleok-1620343
PRIORITY:1
CLASS:PUBLIC
SEQUENCE:0
STATUS:CONFIRMED
TRANSP:OPAQUE
END:VEVENT
END:VCALENDAR
