BEGIN:VCALENDAR
VERSION:2.0
METHOD:PUBLISH
BEGIN:VEVENT
DTSTART:20250208T160000Z
DTEND:20250209T200000Z
LOCATION:Bakersfield, CA 93306
TRANSP: OPAQUE
SEQUENCE:0
UID:
DTSTAMP:20260422T120332Z
SUMMARY:Estate Sale Bakersfield -Near University & Oswell
DESCRIPTION:Estate Sale Bakersfield -Near University & Oswell Complete Estate Management 
UID:1776881012
STREET-ADDRESS:See website
POSTAL-CODE:93306
LOCALITY:Bakersfield
REGION:ABBREV=CA
COUNTRY:ABBREV=US;ABBREV=USA:United States
URL;TYPE=Event Listing:https://estatesales.org/estate-sales/ca/bakersfield/93306/estate-sale-bakersfield-near-university-2360784
PRIORITY:1
CLASS:PUBLIC
SEQUENCE:0
STATUS:CONFIRMED
TRANSP:OPAQUE
END:VEVENT
END:VCALENDAR
