BEGIN:VCALENDAR
VERSION:2.0
METHOD:PUBLISH
BEGIN:VEVENT
DTSTART:20200208T150000Z
DTEND:20200209T220000Z
LOCATION:Lees Summit, MO 64081
TRANSP: OPAQUE
SEQUENCE:0
UID:
DTSTAMP:20260419T070203Z
SUMMARY:Winterset Beauty by Caring Transitions KC
DESCRIPTION:Winterset Beauty by Caring Transitions KC Caring Transitions Kansas City 
UID:1776603723
STREET-ADDRESS:See website
POSTAL-CODE:64081
LOCALITY:Lees Summit
REGION:ABBREV=MO
COUNTRY:ABBREV=US;ABBREV=USA:United States
URL;TYPE=Event Listing:https://estatesales.org/estate-sales/mo/lees-summit/64081/winterset-beauty-by-caring-transitions-1764459
PRIORITY:1
CLASS:PUBLIC
SEQUENCE:0
STATUS:CONFIRMED
TRANSP:OPAQUE
END:VEVENT
END:VCALENDAR
