BEGIN:VCALENDAR
VERSION:2.0
METHOD:PUBLISH
BEGIN:VEVENT
DTSTART:20180208T140000Z
DTEND:20180210T200000Z
LOCATION:New Port Richey, FL 34652
TRANSP: OPAQUE
SEQUENCE:0
UID:
DTSTAMP:20260419T144014Z
SUMMARY:J & J Estate Sales
DESCRIPTION:J & J Estate Sales J & J Estate Sales 
UID:1776631214
STREET-ADDRESS:See website
POSTAL-CODE:34652
LOCALITY:New Port Richey
REGION:ABBREV=FL
COUNTRY:ABBREV=US;ABBREV=USA:United States
URL;TYPE=Event Listing:https://estatesales.org/estate-sales/fl/new-port-richey/34652/j-j-estate-sales-1477257
PRIORITY:1
CLASS:PUBLIC
SEQUENCE:0
STATUS:CONFIRMED
TRANSP:OPAQUE
END:VEVENT
END:VCALENDAR
