BEGIN:VCALENDAR
VERSION:2.0
METHOD:PUBLISH
BEGIN:VEVENT
DTSTART:20140208T150000Z
DTEND:20140209T190000Z
LOCATION:East Hampton, NY 11937
TRANSP: OPAQUE
SEQUENCE:0
UID:
DTSTAMP:20260423T224646Z
SUMMARY:EAST HAMPTON DESIGNER MINT FURNISHINGS
DESCRIPTION:EAST HAMPTON DESIGNER MINT FURNISHINGS re.luxeHamptons 
UID:1777006006
STREET-ADDRESS:See website
POSTAL-CODE:11937
LOCALITY:East Hampton
REGION:ABBREV=NY
COUNTRY:ABBREV=US;ABBREV=USA:United States
URL;TYPE=Event Listing:https://estatesales.org/estate-sales/ny/east-hampton/11937/east-hampton-designer-mint-furnishings-353794
PRIORITY:1
CLASS:PUBLIC
SEQUENCE:0
STATUS:CONFIRMED
TRANSP:OPAQUE
END:VEVENT
END:VCALENDAR
