BEGIN:VCALENDAR
VERSION:2.0
METHOD:PUBLISH
BEGIN:VEVENT
DTSTART:20260207T160000Z
DTEND:20260208T210000Z
LOCATION:Purcellville, VA 20132
TRANSP: OPAQUE
SEQUENCE:0
UID:
DTSTAMP:20260422T235009Z
SUMMARY:Bridal Gown Blowout Sale
DESCRIPTION:Bridal Gown Blowout Sale
UID:1776923409
STREET-ADDRESS:See website
POSTAL-CODE:20132
LOCALITY:Purcellville
REGION:ABBREV=VA
COUNTRY:ABBREV=US;ABBREV=USA:United States
URL;TYPE=Event Listing:https://estatesales.org/estate-sales/va/purcellville/20132/bridal-gown-blowout-sale-2422791
PRIORITY:1
CLASS:PUBLIC
SEQUENCE:0
STATUS:CONFIRMED
TRANSP:OPAQUE
END:VEVENT
END:VCALENDAR
