BEGIN:VCALENDAR
VERSION:2.0
METHOD:PUBLISH
BEGIN:VEVENT
DTSTART:20250207T150000Z
DTEND:20250208T190000Z
LOCATION:Belmar, NJ 07719
TRANSP: OPAQUE
SEQUENCE:0
UID:
DTSTAMP:20260420T190814Z
SUMMARY:Another Great Estate Sale In Belmar By Adam!! Tools/Nautical/Neat As A Pin!!!
DESCRIPTION:Another Great Estate Sale In Belmar By Adam!! Tools/Nautical/Neat As A Pin!!! The Great Estate LLC 
UID:1776733694
STREET-ADDRESS:See website
POSTAL-CODE:07719
LOCALITY:Belmar
REGION:ABBREV=NJ
COUNTRY:ABBREV=US;ABBREV=USA:United States
URL;TYPE=Event Listing:https://estatesales.org/estate-sales/nj/belmar/07719/another-great-estate-sale-in-2360556
PRIORITY:1
CLASS:PUBLIC
SEQUENCE:0
STATUS:CONFIRMED
TRANSP:OPAQUE
END:VEVENT
END:VCALENDAR
