BEGIN:VCALENDAR
VERSION:2.0
METHOD:PUBLISH
BEGIN:VEVENT
DTSTART:20260206T160000Z
DTEND:20260208T220000Z
LOCATION:Mokena, IL 60448
TRANSP: OPAQUE
SEQUENCE:0
UID:
DTSTAMP:20260421T203041Z
SUMMARY:CAIT’S® Mokena Warehouse Estate Sale - UP TO 50% OFF!
DESCRIPTION:CAIT’S® Mokena Warehouse Estate Sale - UP TO 50% OFF! CAIT’S® Estate Sales & Emporium 
UID:1776825041
STREET-ADDRESS:See website
POSTAL-CODE:60448
LOCALITY:Mokena
REGION:ABBREV=IL
COUNTRY:ABBREV=US;ABBREV=USA:United States
URL;TYPE=Event Listing:https://estatesales.org/estate-sales/il/mokena/60448/caits-mokena-warehouse-estate-sale-2423934
PRIORITY:1
CLASS:PUBLIC
SEQUENCE:0
STATUS:CONFIRMED
TRANSP:OPAQUE
END:VEVENT
END:VCALENDAR
