BEGIN:VCALENDAR
VERSION:2.0
METHOD:PUBLISH
BEGIN:VEVENT
DTSTART:20260206T150000Z
DTEND:20260207T200000Z
LOCATION:Bridgewater, NJ 08807
TRANSP: OPAQUE
SEQUENCE:0
UID:
DTSTAMP:20260423T125448Z
SUMMARY:Extraordinary 2-Day Estate Sale in Bridgewater This Weekend!
DESCRIPTION:Extraordinary 2-Day Estate Sale in Bridgewater This Weekend! Caring Transitions of Somerset 
UID:1776970488
STREET-ADDRESS:See website
POSTAL-CODE:08807
LOCALITY:Bridgewater
REGION:ABBREV=NJ
COUNTRY:ABBREV=US;ABBREV=USA:United States
URL;TYPE=Event Listing:https://estatesales.org/estate-sales/nj/bridgewater/08807/extraordinary-2day-estate-sale-in-2423727
PRIORITY:1
CLASS:PUBLIC
SEQUENCE:0
STATUS:CONFIRMED
TRANSP:OPAQUE
END:VEVENT
END:VCALENDAR
