BEGIN:VCALENDAR
VERSION:2.0
METHOD:PUBLISH
BEGIN:VEVENT
DTSTART:20260206T170000Z
DTEND:20260208T230000Z
LOCATION:Alpine, CA 91901
TRANSP: OPAQUE
SEQUENCE:0
UID:
DTSTAMP:20260420T181154Z
SUMMARY:Beautiful Estate Sale in Alpine Ca
DESCRIPTION:Beautiful Estate Sale in Alpine Ca Clark Prestige Estate Sale 
UID:1776730314
STREET-ADDRESS:See website
POSTAL-CODE:91901
LOCALITY:Alpine
REGION:ABBREV=CA
COUNTRY:ABBREV=US;ABBREV=USA:United States
URL;TYPE=Event Listing:https://estatesales.org/estate-sales/ca/alpine/91901/beautiful-estate-sale-in-alpine-2423271
PRIORITY:1
CLASS:PUBLIC
SEQUENCE:0
STATUS:CONFIRMED
TRANSP:OPAQUE
END:VEVENT
END:VCALENDAR
