BEGIN:VCALENDAR
VERSION:2.0
METHOD:PUBLISH
BEGIN:VEVENT
DTSTART:20260206T160000Z
DTEND:20260207T220000Z
LOCATION:Bennett, CO 80102
TRANSP: OPAQUE
SEQUENCE:0
UID:
DTSTAMP:20260420T190816Z
SUMMARY:Annual Barn Sale 2026
DESCRIPTION:Annual Barn Sale 2026 Bigfoot Auctions Inc. 
UID:1776733696
STREET-ADDRESS:See website
POSTAL-CODE:80102
LOCALITY:Bennett
REGION:ABBREV=CO
COUNTRY:ABBREV=US;ABBREV=USA:United States
URL;TYPE=Event Listing:https://estatesales.org/estate-sales/co/bennett/80102/annual-barn-sale-2026-2423707
PRIORITY:1
CLASS:PUBLIC
SEQUENCE:0
STATUS:CONFIRMED
TRANSP:OPAQUE
END:VEVENT
END:VCALENDAR
