BEGIN:VCALENDAR
VERSION:2.0
METHOD:PUBLISH
BEGIN:VEVENT
DTSTART:20200206T140000Z
DTEND:20200208T200000Z
LOCATION:Gainesville, FL 32605
TRANSP: OPAQUE
SEQUENCE:0
UID:
DTSTAMP:20260420T060841Z
SUMMARY:Nice full sale in Gainesville 
DESCRIPTION:Nice full sale in Gainesville  Justice League Estate Sales 
UID:1776686921
STREET-ADDRESS:See website
POSTAL-CODE:32605
LOCALITY:Gainesville
REGION:ABBREV=FL
COUNTRY:ABBREV=US;ABBREV=USA:United States
URL;TYPE=Event Listing:https://estatesales.org/estate-sales/fl/gainesville/32605/nice-full-sale-in-gainesville-1748823
PRIORITY:1
CLASS:PUBLIC
SEQUENCE:0
STATUS:CONFIRMED
TRANSP:OPAQUE
END:VEVENT
END:VCALENDAR
