BEGIN:VCALENDAR
VERSION:2.0
METHOD:PUBLISH
BEGIN:VEVENT
DTSTART:20200206T160000Z
DTEND:20200208T220000Z
LOCATION:West Covina, CA 91790
TRANSP: OPAQUE
SEQUENCE:0
UID:
DTSTAMP:20260425T055853Z
SUMMARY:3 Day Estate Sale: Featuring Fifty Fabulous Years🌸50’s, 🌼60’s, 🌺70’s, 🌻80’s, 🥔90’s and ’now! 
DESCRIPTION:3 Day Estate Sale: Featuring Fifty Fabulous Years🌸50’s, 🌼60’s, 🌺70’s, 🌻80’s, 🥔90’s and ’now!  Sweet Memories 
UID:1777118333
STREET-ADDRESS:See website
POSTAL-CODE:91790
LOCALITY:West Covina
REGION:ABBREV=CA
COUNTRY:ABBREV=US;ABBREV=USA:United States
URL;TYPE=Event Listing:https://estatesales.org/estate-sales/ca/west-covina-/91790/3-day-estate-sale-featuring-1762147
PRIORITY:1
CLASS:PUBLIC
SEQUENCE:0
STATUS:CONFIRMED
TRANSP:OPAQUE
END:VEVENT
END:VCALENDAR
