BEGIN:VCALENDAR
VERSION:2.0
METHOD:PUBLISH
BEGIN:VEVENT
DTSTART:20150206T170000Z
DTEND:20150208T200000Z
LOCATION:East Hampton, NY 11937
TRANSP: OPAQUE
SEQUENCE:0
UID:
DTSTAMP:20260423T224647Z
SUMMARY:TRADITIONAL QUALITY FURNITURE
DESCRIPTION:TRADITIONAL QUALITY FURNITURE re.luxeHamptons 
UID:1777006007
STREET-ADDRESS:See website
POSTAL-CODE:11937
LOCALITY:East Hampton
REGION:ABBREV=NY
COUNTRY:ABBREV=US;ABBREV=USA:United States
URL;TYPE=Event Listing:https://estatesales.org/estate-sales/ny/east-hampton/11937/traditional-quality-furniture-500723
PRIORITY:1
CLASS:PUBLIC
SEQUENCE:0
STATUS:CONFIRMED
TRANSP:OPAQUE
END:VEVENT
END:VCALENDAR
