BEGIN:VCALENDAR
VERSION:2.0
METHOD:PUBLISH
BEGIN:VEVENT
DTSTART:20260205T170000Z
DTEND:20260208T220000Z
LOCATION:Blue Ridge, VA 24064
TRANSP: OPAQUE
SEQUENCE:0
UID:
DTSTAMP:20260422T134037Z
SUMMARY:BREATHTAKING SW VIRGINIA ESTATE OF MONUMENTAL PROPORTIONS
DESCRIPTION:BREATHTAKING SW VIRGINIA ESTATE OF MONUMENTAL PROPORTIONS MM Turnes Group 
UID:1776886837
STREET-ADDRESS:See website
POSTAL-CODE:24064
LOCALITY:Blue Ridge
REGION:ABBREV=VA
COUNTRY:ABBREV=US;ABBREV=USA:United States
URL;TYPE=Event Listing:https://estatesales.org/estate-sales/va/blue-ridge/24064/breathtaking-sw-virginia-estate-of-2415456
PRIORITY:1
CLASS:PUBLIC
SEQUENCE:0
STATUS:CONFIRMED
TRANSP:OPAQUE
END:VEVENT
END:VCALENDAR
