BEGIN:VCALENDAR
VERSION:2.0
METHOD:PUBLISH
BEGIN:VEVENT
DTSTART:20220205T150000Z
DTEND:20220206T230000Z
LOCATION:Great Falls, VA 22066
TRANSP: OPAQUE
SEQUENCE:0
UID:
DTSTAMP:20260421T021441Z
SUMMARY:GREAT FALLS MANSION ESTATE SALE!  FINAL 2 DAYS!!  
DESCRIPTION:GREAT FALLS MANSION ESTATE SALE!  FINAL 2 DAYS!!   AP AUCTIONS 
UID:1776759281
STREET-ADDRESS:See website
POSTAL-CODE:22066
LOCALITY:Great Falls
REGION:ABBREV=VA
COUNTRY:ABBREV=US;ABBREV=USA:United States
URL;TYPE=Event Listing:https://estatesales.org/estate-sales/va/great-falls/22066/great-falls-mansion-estate-sale-2004225
PRIORITY:1
CLASS:PUBLIC
SEQUENCE:0
STATUS:CONFIRMED
TRANSP:OPAQUE
END:VEVENT
END:VCALENDAR
