BEGIN:VCALENDAR
VERSION:2.0
METHOD:PUBLISH
BEGIN:VEVENT
DTSTART:20210205T170000Z
DTEND:20210207T210000Z
LOCATION:Santa Rosa, CA 95409
TRANSP: OPAQUE
SEQUENCE:0
UID:
DTSTAMP:20260421T124152Z
SUMMARY:FULL HOUSE IN OAKMONT!!!
DESCRIPTION:FULL HOUSE IN OAKMONT!!! Susan Gardner Estate Sales 
UID:1776796912
STREET-ADDRESS:See website
POSTAL-CODE:95409
LOCALITY:Santa Rosa
REGION:ABBREV=CA
COUNTRY:ABBREV=US;ABBREV=USA:United States
URL;TYPE=Event Listing:https://estatesales.org/estate-sales/ca/santa-rosa/95409/full-house-in-oakmont-1867941
PRIORITY:1
CLASS:PUBLIC
SEQUENCE:0
STATUS:CONFIRMED
TRANSP:OPAQUE
END:VEVENT
END:VCALENDAR
